Workbook
Name Tax_data: #REF!

Sheet Master
B2: Office of the Principal
B3: Salary and Deduction Detail for FY : 2025-26
B5: नाम कर्मचारी- | C5: MOHIT SINGH | D5: पद- | E5: Lecturer
B6: Employee ID- | C6: RJBW201708008082 | D6: लेवल- | E6: L-12
B7: पैन नं.- | C7: EKSPS8037K | D7: SI No.-
B8: बैंक खाता सं.- | C8: 30460769466 | D8: GPF/GPF2004 No.- | E8: RJBW201708008082
B9: TAN No. | D9: Mobile No. - | E9: 9829454198
B10: मार्च 2024 का बेसिक- | C10: 61300 | D10: GPF 2004 | E10: YES
B11: HRA RATE | C11: 0.1 | D11: DA Arrear मिला या नही | E11: YES
B12: Bonus | C12: YES | D12: Bonus Month | E12: 12
B13: Surrender लिया या नहीं | C13: YES | D13: Sureender Month
B14: SI Amount | C14: 7000 | D14: GPF/GPF2004 Amount यदि स्लैब के अलावा है तो -
B15: CCA Amount | C15: 0 | D15: Washing All. Amount | E15: 0
B16: Are you in Probation | C16: NO | D16: GIS Amount | E16: 700
B17: LIC Amount from Salary | C17: 0 | D17: Hitkari Nidhi Amount | E17: 500

Sheet GA 55A
A1: =Master!B2 -> Office of the Principal
A2: Salary and Deduction Detail for FY : 2025-26
A4: Name of Employee- | C4: =Master!C5 -> MOHIT SINGH | G4: Post | I4: =Master!E5 -> Lecturer | K4: Pay Level | M4: =Master!E6 -> L-12 | P4: Employee ID | R4: =Master!C6 -> RJBW201708008082 | V4: Bank A/c No.- | X4: =Master!C8 -> 30460769466
A5: PAN No. | C5: =Master!C7 -> EKSPS8037K | G5: TAN No. | I5: =Master!C9 -> 0 | K5: GPF No. | M5: =Master!E8 -> RJBW201708008082 | P5: SI No. | R5: =Master!E7 -> 0 | V5: Mobile No. | X5: =Master!E9 -> 9829454198
A7: Month & Year | B7: Basic Pay | C7: DA | D7: HRA | E7: Bonus | F7: Washing Allow. | G7: Handicaped Allowance | H7: CCA Allowance | I7: Other Allowance | J7: Gross Salary | K7: SIP | L7: SI Loan | M7: SI Loan Interest | N7: =IF(Master!E10="Yes","GPF-2004","GPF") -> GPF-2004 | O7: GPF Loan | P7: RGHS | Q7: GIS | R7: LIC | S7: Hitkari Nidhi | T7: Other Ded1 | U7: Other Ded2 | V7: ITAX | W7: Total Deduction | X7: NET Payment | Y7: Bill No./ Dte
A8: 45717 | B8: =IF(Master!C10="","",Master!C10) -> 61300 | C8: =IF(Master!C16="YES",0,ROUND(IF(B8="",0,B8*53%),0)) -> 32489 | D8: =IF(Master!$C$16="yes",0,ROUND(IF(B8="",0,B8*Master!$C$11),0)) -> 6130 | F8: =IF(Master!E15="","",Master!E15) -> 0 | G8: 0 | H8: =IF(Master!C15="","",Master!C15) -> 0 | I8: 0 | J8: =SUM(B8:I8) -> 99919 | K8: =IF(Master!C14="","",Master!C14) -> 7000 | N8: =IF(Master!$E$14>0,Master!$E$14,IF(B8<23101,1450,IF(B8<28501,1625,IF(B8<38501,2100,IF(B8<51501,2850,IF(B8<62001,3575,IF(B8<72001,4200,IF(B8<80001,4800,IF(B8<116001,6150,IF(B8<167001,8900,10500)))))))))) -> 3575 | O8: 0 | P8: =IF(B8<18001,265,IF(B8<33501,440,IF(B8<54001,658,875))) -> 875 | R8: =Master!C17 -> 0 | V8: 1000 | W8: =SUM(K8:V8) -> 12450 | X8: =J8-W8 -> 87469 | AF8: 45717 | AG8: =Master!C10 -> 61300 | AH8: 0.53 | AI8: =C8 -> 32489 | AJ8: 0
A9: 45748 | B9: =B8 -> 61300 | C9: =IF(Master!C17="YES",0,ROUND(IF(B9="",0,B9*55%),0)) -> 33715 | D9: =IF(Master!$C$16="yes",0,ROUND(IF(B9="",0,B9*Master!$C$11),0)) -> 6130 | F9: =F8 -> 0 | G9: =G8 -> 0 | H9: =H8 -> 0 | I9: =I8 -> 0 | J9: =SUM(B9:I9) -> 101145 | K9: =K8 -> 7000 | L9: =L8 -> 0 | M9: =M8 -> 0 | N9: =IF(Master!$E$14>0,Master!$E$14,IF(B9<23101,1450,IF(B9<28501,1625,IF(B9<38501,2100,IF(B9<51501,2850,IF(B9<62001,3575,IF(B9<72001,4200,IF(B9<80001,4800,IF(B9<116001,6150,IF(B9<167001,8900,10500)))))))))) -> 3575 | O9: =O8 -> 0 | P9: =IF(B9<18001,265,IF(B9<33501,440,IF(B9<54001,658,875))) -> 875 | Q9: =Master!E16 -> 700 | R9: =R8 -> 0 | T9: =T8 -> 0 | V9: =V8 -> 1000 | W9: =SUM(K9:V9) -> 13150 | X9: =J9-W9 -> 87995 | AF9: 45748 | AG9: =B9 -> 61300 | AH9: 0.55 | AI9: =C9 -> 33715 | AJ9: 0
A10: 45778 | B10: =B9 -> 61300 | C10: =IF(Master!C18="YES",0,ROUND(IF(B10="",0,B10*55%),0)) -> 33715 | D10: =IF(Master!$C$16="yes",0,ROUND(IF(B10="",0,B10*Master!$C$11),0)) -> 6130 | F10: =F9 -> 0 | G10: =G9 -> 0 | H10: =H9 -> 0 | I10: =I9 -> 0 | J10: =SUM(B10:I10) -> 101145 | K10: =K9 -> 7000 | L10: =L9 -> 0 | M10: =M9 -> 0 | N10: =IF(Master!$E$14>0,Master!$E$14,IF(B10<23101,1450,IF(B10<28501,1625,IF(B10<38501,2100,IF(B10<51501,2850,IF(B10<62001,3575,IF(B10<72001,4200,IF(B10<80001,4800,IF(B10<116001,6150,IF(B10<167001,8900,10500)))))))))) -> 3575 | O10: =O9 -> 0 | P10: =IF(B10<18001,265,IF(B10<33501,440,IF(B10<54001,658,875))) -> 875 | R10: =R9 -> 0 | T10: =T9 -> 0 | V10: =V9 -> 1000 | W10: =SUM(K10:V10) -> 12450 | X10: =J10-W10 -> 88695 | AF10: 45778 | AG10: =B10 -> 61300 | AH10: 0.55 | AI10: =C10 -> 33715
A11: 45809 | B11: =B10 -> 61300 | C11: =IF(Master!C19="YES",0,ROUND(IF(B11="",0,B11*55%),0)) -> 33715 | D11: =IF(Master!$C$16="yes",0,ROUND(IF(B11="",0,B11*Master!$C$11),0)) -> 6130 | F11: =F10 -> 0 | G11: =G10 -> 0 | H11: =H10 -> 0 | I11: =I10 -> 0 | J11: =SUM(B11:I11) -> 101145 | K11: =K10 -> 7000 | L11: =L10 -> 0 | M11: =M10 -> 0 | N11: =IF(Master!$E$14>0,Master!$E$14,IF(B11<23101,1450,IF(B11<28501,1625,IF(B11<38501,2100,IF(B11<51501,2850,IF(B11<62001,3575,IF(B11<72001,4200,IF(B11<80001,4800,IF(B11<116001,6150,IF(B11<167001,8900,10500)))))))))) -> 3575 | O11: =O10 -> 0 | P11: =IF(B11<18001,265,IF(B11<33501,440,IF(B11<54001,658,875))) -> 875 | R11: =R10 -> 0 | T11: =T10 -> 0 | V11: =V10 -> 1000 | W11: =SUM(K11:V11) -> 12450 | X11: =J11-W11 -> 88695 | AF11: 45809 | AG11: =B11 -> 61300 | AH11: 0.55 | AI11: =C11 -> 33715
A12: 45839 | B12: =IF(Master!$C$16="yes",B11,MROUND(B11*1.03,100)) -> 63100 | C12: =IF(Master!C20="YES",0,ROUND(IF(B12="",0,B12*55%),0)) -> 34705 | D12: =IF(Master!$C$16="yes",0,ROUND(IF(B12="",0,B12*Master!$C$11),0)) -> 6310 | F12: =F11 -> 0 | G12: =G11 -> 0 | H12: =H11 -> 0 | I12: =I11 -> 0 | J12: =SUM(B12:I12) -> 104115 | K12: =K11 -> 7000 | L12: =L11 -> 0 | M12: =M11 -> 0 | N12: =IF(Master!$E$14>0,Master!$E$14,IF(B12<23101,1450,IF(B12<28501,1625,IF(B12<38501,2100,IF(B12<51501,2850,IF(B12<62001,3575,IF(B12<72001,4200,IF(B12<80001,4800,IF(B12<116001,6150,IF(B12<167001,8900,10500)))))))))) -> 4200 | O12: =O11 -> 0 | P12: =IF(B12<18001,265,IF(B12<33501,440,IF(B12<54001,658,875))) -> 875 | R12: =R11 -> 0 | T12: =T11 -> 0 | V12: =V11 -> 1000 | W12: =SUM(K12:V12) -> 13075 | X12: =J12-W12 -> 91040 | AF12: 45839 | AG12: =B12 -> 63100 | AH12: 0.55 | AI12: =C12 -> 34705 | AJ12: =ROUND(AG12/2*3%,0) -> 947
A13: 45870 | B13: =B12 -> 63100 | C13: =IF(Master!C21="YES",0,ROUND(IF(B13="",0,B13*55%),0)) -> 34705 | D13: =IF(Master!$C$16="yes",0,ROUND(IF(B13="",0,B13*Master!$C$11),0)) -> 6310 | F13: =F12 -> 0 | G13: =G12 -> 0 | H13: =H12 -> 0 | I13: =I12 -> 0 | J13: =SUM(B13:I13) -> 104115 | K13: =K12 -> 7000 | L13: =L12 -> 0 | M13: =M12 -> 0 | N13: =IF(Master!$E$14>0,Master!$E$14,IF(B13<23101,1450,IF(B13<28501,1625,IF(B13<38501,2100,IF(B13<51501,2850,IF(B13<62001,3575,IF(B13<72001,4200,IF(B13<80001,4800,IF(B13<116001,6150,IF(B13<167001,8900,10500)))))))))) -> 4200 | O13: =O12 -> 0 | P13: =IF(B13<18001,265,IF(B13<33501,440,IF(B13<54001,658,875))) -> 875 | R13: =R12 -> 0 | T13: =T12 -> 0 | V13: =V12 -> 1000 | W13: =SUM(K13:V13) -> 13075 | X13: =J13-W13 -> 91040 | AF13: 45870 | AG13: =B13 -> 63100 | AH13: 0.55 | AI13: =C13 -> 34705 | AJ13: =ROUND(AG13/2*3%,0) -> 947
A14: 45901 | B14: =B13 -> 63100 | C14: =IF(Master!C22="YES",0,ROUND(IF(B14="",0,B14*55%),0)) -> 34705 | D14: =IF(Master!$C$16="yes",0,ROUND(IF(B14="",0,B14*Master!$C$11),0)) -> 6310 | F14: =F13 -> 0 | G14: =G13 -> 0 | H14: =H13 -> 0 | I14: =I13 -> 0 | J14: =SUM(B14:I14) -> 104115 | K14: =K13 -> 7000 | L14: =L13 -> 0 | M14: =M13 -> 0 | N14: =IF(Master!$E$14>0,Master!$E$14,IF(B14<23101,1450,IF(B14<28501,1625,IF(B14<38501,2100,IF(B14<51501,2850,IF(B14<62001,3575,IF(B14<72001,4200,IF(B14<80001,4800,IF(B14<116001,6150,IF(B14<167001,8900,10500)))))))))) -> 4200 | O14: =O13 -> 0 | P14: =IF(B14<18001,265,IF(B14<33501,440,IF(B14<54001,658,875))) -> 875 | R14: =R13 -> 0 | T14: =T13 -> 0 | V14: =V13 -> 1000 | W14: =SUM(K14:V14) -> 13075 | X14: =J14-W14 -> 91040 | AB14: =IF(AR11="","",AR11) | AF14: 45901 | AG14: =B14 -> 63100 | AH14: 0.55 | AI14: =C14 -> 34705 | AJ14: =ROUND(AG14/2*3%,0) -> 947
A15: 45931 | B15: =B14 -> 63100 | C15: =IF(Master!C23="YES",0,ROUND(IF(B15="",0,B15*58%),0)) -> 36598 | D15: =IF(Master!$C$16="yes",0,ROUND(IF(B15="",0,B15*Master!$C$11),0)) -> 6310 | F15: =F14 -> 0 | G15: =G14 -> 0 | H15: =H14 -> 0 | I15: =I14 -> 0 | J15: =SUM(B15:I15) -> 106008 | K15: =K14 -> 7000 | L15: =L14 -> 0 | M15: =M14 -> 0 | N15: =IF(Master!$E$14>0,Master!$E$14,IF(B15<23101,1450,IF(B15<28501,1625,IF(B15<38501,2100,IF(B15<51501,2850,IF(B15<62001,3575,IF(B15<72001,4200,IF(B15<80001,4800,IF(B15<116001,6150,IF(B15<167001,8900,10500)))))))))) -> 4200 | O15: =O14 -> 0 | P15: =IF(B15<18001,265,IF(B15<33501,440,IF(B15<54001,658,875))) -> 875 | R15: =R14 -> 0 | T15: =T14 -> 0 | V15: =V14 -> 1000 | W15: =SUM(K15:V15) -> 13075 | X15: =J15-W15 -> 92933 | AF15: 45931 | AG15: =B15 -> 63100 | AH15: 0.58 | AI15: =C15 -> 36598 | AJ15: =ROUND(AG15/2*3%,0) -> 947
A16: 45962 | B16: =B15 -> 63100 | C16: =IF(Master!C24="YES",0,ROUND(IF(B16="",0,B16*58%),0)) -> 36598 | D16: =IF(Master!$C$16="yes",0,ROUND(IF(B16="",0,B16*Master!$C$11),0)) -> 6310 | F16: =F15 -> 0 | G16: =G15 -> 0 | H16: =H15 -> 0 | I16: =I15 -> 0 | J16: =SUM(B16:I16) -> 106008 | K16: =K15 -> 7000 | L16: =L15 -> 0 | M16: =M15 -> 0 | N16: =IF(Master!$E$14>0,Master!$E$14,IF(B16<23101,1450,IF(B16<28501,1625,IF(B16<38501,2100,IF(B16<51501,2850,IF(B16<62001,3575,IF(B16<72001,4200,IF(B16<80001,4800,IF(B16<116001,6150,IF(B16<167001,8900,10500)))))))))) -> 4200 | O16: =O15 -> 0 | P16: =IF(B16<18001,265,IF(B16<33501,440,IF(B16<54001,658,875))) -> 875 | R16: =R15 -> 0 | T16: =T15 -> 0 | V16: =V15 -> 1000 | W16: =SUM(K16:V16) -> 13075 | X16: =J16-W16 -> 92933 | AF16: 45962 | AG16: =B16 -> 63100 | AH16: 0.58 | AI16: =C16 -> 36598
A17: 45992 | B17: =B16 -> 63100 | C17: =IF(Master!C25="YES",0,ROUND(IF(B17="",0,B17*58%),0)) -> 36598 | D17: =IF(Master!$C$16="yes",0,ROUND(IF(B17="",0,B17*Master!$C$11),0)) -> 6310 | F17: =F16 -> 0 | G17: =G16 -> 0 | H17: =H16 -> 0 | I17: =I16 -> 0 | J17: =SUM(B17:I17) -> 106008 | K17: =K16 -> 7000 | L17: =L16 -> 0 | M17: =M16 -> 0 | N17: =IF(Master!$E$14>0,Master!$E$14,IF(B17<23101,1450,IF(B17<28501,1625,IF(B17<38501,2100,IF(B17<51501,2850,IF(B17<62001,3575,IF(B17<72001,4200,IF(B17<80001,4800,IF(B17<116001,6150,IF(B17<167001,8900,10500)))))))))) -> 4200 | O17: =O16 -> 0 | P17: =IF(B17<18001,265,IF(B17<33501,440,IF(B17<54001,658,875))) -> 875 | R17: =R16 -> 0 | S17: =Master!E17 -> 500 | T17: =T16 -> 0 | V17: =V16 -> 1000 | W17: =SUM(K17:V17) -> 13575 | X17: =J17-W17 -> 92433 | AF17: 45992 | AG17: =B17 -> 63100 | AH17: 0.58 | AI17: =C17 -> 36598
A18: 46023 | B18: =B17 -> 63100 | C18: =IF(Master!C26="YES",0,ROUND(IF(B18="",0,B18*58%),0)) -> 36598 | D18: =IF(Master!$C$16="yes",0,ROUND(IF(B18="",0,B18*Master!$C$11),0)) -> 6310 | F18: =F17 -> 0 | G18: =G17 -> 0 | H18: =H17 -> 0 | I18: =I17 -> 0 | J18: =SUM(B18:I18) -> 106008 | K18: =K17 -> 7000 | L18: =L17 -> 0 | M18: =M17 -> 0 | N18: =IF(Master!$E$14>0,Master!$E$14,IF(B18<23101,1450,IF(B18<28501,1625,IF(B18<38501,2100,IF(B18<51501,2850,IF(B18<62001,3575,IF(B18<72001,4200,IF(B18<80001,4800,IF(B18<116001,6150,IF(B18<167001,8900,10500)))))))))) -> 4200 | O18: =O17 -> 0 | P18: =IF(B18<18001,265,IF(B18<33501,440,IF(B18<54001,658,875))) -> 875 | R18: =R17 -> 0 | T18: =T17 -> 0 | V18: =V17 -> 1000 | W18: =SUM(K18:V18) -> 13075 | X18: =J18-W18 -> 92933 | AF18: 46023 | AG18: =B18 -> 63100 | AH18: 0.58 | AI18: =C18 -> 36598
A19: 46054 | B19: =B18 -> 63100 | C19: =IF(Master!C27="YES",0,ROUND(IF(B19="",0,B19*58%),0)) -> 36598 | D19: =IF(Master!$C$16="yes",0,ROUND(IF(B19="",0,B19*Master!$C$11),0)) -> 6310 | F19: =F18 -> 0 | G19: =G18 -> 0 | H19: =H18 -> 0 | I19: =I18 -> 0 | J19: =SUM(B19:I19) -> 106008 | K19: =K18 -> 7000 | L19: =L18 -> 0 | M19: =M18 -> 0 | N19: =IF(Master!$E$14>0,Master!$E$14,IF(B19<23101,1450,IF(B19<28501,1625,IF(B19<38501,2100,IF(B19<51501,2850,IF(B19<62001,3575,IF(B19<72001,4200,IF(B19<80001,4800,IF(B19<116001,6150,IF(B19<167001,8900,10500)))))))))) -> 4200 | O19: =O18 -> 0 | P19: =IF(B19<18001,265,IF(B19<33501,440,IF(B19<54001,658,875))) -> 875 | R19: =R18 -> 0 | T19: =T18 -> 0 | V19: =V18 -> 1000 | W19: =SUM(K19:V19) -> 13075 | X19: =J19-W19 -> 92933 | AF19: 46054 | AG19: =B19 -> 63100 | AH19: 0.58 | AI19: =C19 -> 36598
A20: DA Arrear Jan 25 to Mar 25 | C20: =IF(Master!E11="Yes",IF(Master!C16="YES",0,ROUND($B$8*2%,0)+ROUND($B$9*2%,0)+ROUND($B$10*2%,0))) -> 3678 | J20: =SUM(B20:I20) -> 3678 | L20: 0 | N20: =IF(C20="","",C20) -> 3678 | W20: =SUM(K20:V20) -> 3678 | X20: =J20-W20 -> 0
A21: Bonus | E21: =IF(Master!C12="Yes",ROUND(6774/12*Master!E12,0),0) -> 6774 | J21: =SUM(B21:I21) -> 6774 | N21: =ROUND(E21*25%,0) -> 1694 | W21: =SUM(K21:V21) -> 1694 | X21: =J21-W21 -> 5080
A22: Surrender | B22: =IF(Master!C13="Yes",IF(Master!E13="","",VLOOKUP(Master!E13,$AF$8:$AH$19,2,0)/2),0) | C22: =IF(Master!E13="","",B22*VLOOKUP(Master!E13,$AF$8:$AH$19,3,0)) | J22: =SUM(B22:I22) -> 0 | W22: =SUM(K22:V22) -> 0 | X22: =J22-W22 -> 0
A23: DA Arrear Jul 25 to Sep 25 | C23: =IF(Master!E11="Yes",IF(Master!C16="YES",0,ROUND($B$12*3%,0)+ROUND($B$13*3%,0)+ROUND($B$14*3%,0))) -> 5679 | J23: =SUM(B23:I23) -> 5679 | N23: =IF(C23="","",C23) -> 5679 | W23: =SUM(K23:V23) -> 5679 | X23: =J23-W23 -> 0
A24: Fixation Arrear | J24: =SUM(B24:I24) -> 0 | W24: =SUM(K24:V24) -> 0 | X24: =J24-W24 -> 0
A25: Salary Arrear1 | J25: =SUM(B25:I25) -> 0 | W25: =SUM(K25:V25) -> 0 | X25: =J25-W25 -> 0
A26: Salary Arrear2 | J26: =SUM(B26:I26) -> 0 | W26: =SUM(K26:V26) -> 0 | X26: =J26-W26 -> 0
A27: Surrender DA Arrear | C27: =IF(Master!C13="no",0,IF(Master!E13=$AF$8,$AJ$8,IF(Master!E13=AF9,AJ9,IF(Master!E13=$AF$12,$AJ$12,IF(Master!E13=$AF$13,$AJ$13,IF(Master!E13=$AF$14,$AJ$14,IF(Master!E13=$AF$15,AJ$15,""))))))) | J27: =SUM(B27:I27) -> 0 | W27: =SUM(K27:V27) -> 0 | X27: =J27-W27 -> 0
A28: Total | B28: =SUM(B8:B27) -> 750000 | C28: =SUM(C8:C27) -> 430096 | D28: =SUM(D8:D27) -> 75000 | E28: =SUM(E8:E27) -> 6774 | F28: =SUM(F8:F27) -> 0 | G28: =SUM(G8:G27) -> 0 | H28: =SUM(H8:H27) -> 0 | I28: =SUM(I8:I27) -> 0 | ... X28: =SUM(X8:X27) -> 1095219
A30: Signature Of Employee | W30: Signature Of DDO
G31: Software Prepared By Ashwini Kumar : 9166023711 www.ashwinisharma.com

Sheet Oth.Deductions
A1: वेतन के अतिरिक्त कटौतियाँ, आय/जमा राशि एवं छूट का विवरण
A3: क्र.सं. | B3: विवरण | C3: राशि | D3: क्र.सं. | E3: विवरण | F3: राशि
A4: 1 | B4: मकान किराया भत्ता ( छूट जो लेनी है) | C4: 0 | D4: 19 | E4: बचत खाते (Saving Acounts) की जमा राशि पर प्राप्त ब्याज | F4: 0
A5: 2 | B5: मनोरंजन भता धारा 16 (ii) के अन्तर्गत | C5: 0 | D5: 20 | E5: एफडी आदि अन्य जमा राशि पर प्राप्त कुल ब्याज (पीपीएफ को छोड़कर) | F5: 0
A6: 3 | B6: व्यवयाय कर धारा 16 (iii) के अन्तगर्त | C6: 0 | D6: 21 | E6: अन्य विभिन्न स्त्रो़त्र (ब्याज के अलावा) से कुल आय | F6: 0
A7: 4 | B7: गृह सम्पति से प्राप्त किराया - आय | C7: 0 | D7: 22 | E7: धारा 80 सी के अन्तर्गत अन्य मद में जमा करायी गयी राशि | F7: 0
A8: 5 | B8: गृहकर | C8: 0 | D8: 23 | E8: धारा 80CCC-पेंशन प्लान हेतु अंशदान (एन.पी.एस. के अलावा) | F8: 0
A9: 6 | B9: गृह ऋण किस्त मूलधन | C9: 0 | D9: 24 | E9: सरकारी पेंशन योजना में कर्मचारी का अंशदान अधिकतम वेतन का 10% धारा 80CCD(1) | F9: 0
A10: 7 | B10: गृह ऋण किस्त ब्याज | C10: 0 | D10: 25 | E10: धारा 80CCD(1B) नवीन पेंशन योजना में अतिरिक्त अंशदान (अधिकतम रू. 50,000) | F10: 0
A11: 8 | B11: जीवन बीमा प्रीमियम (जो वेतन से नही काटा गया) LIC | C11: 0 | D11: 26 | E11: धारा 80 D, चिकित्सा बीमा प्रीमियम (स्वयं,पति/पत्नी,माता-पिता व बच्चों के लिए रू 25000,सीनियर सिटीजन रू 50000) | F11: 0
A12: 9 | B12: पी.एल.आई. (PLI) | C12: 0 | D12: 27 | E12: धारा 80DD विकलांग आश्रितों के चिकित्सा उपचार (अधिकतम 75,000 तथा 80% या अधिक विकलांगता 125,000) | F12: 0
A13: 10 | B13: टयूशन फीस (Tution Fees) | C13: 0 | D13: 28 | E13: धारा 80 DB विशिष्ट रोंगों के उपचार हेतु कटौती (अधिकतम रू 40,000, सीनियर सिटीजन हेतु रू 100,000) | F13: 0
A14: 11 | B14: यू. एल. आई. पी./वार्षिक प्लान | C14: 0 | D14: 29 | E14: धारा 80 E उच्च शिक्षा हेतु लिए ऋण का ब्याज | F14: 0
A15: 12 | B15: राष्ट्रीय बचत पत्र NSC | C15: 0 | D15: 30 | E15: धारा 80 G धर्मार्थ संस्थाओं आदि को दिये दान ( क श्रेणी में 100 प्रतिशत एवं ख श्रेणी में 50 प्रतिशत) | F15: 0
... A21: 18 | B21: स्थगित वार्षिकी (Defferred Annuty) | C21: 0 | D21: 36 | E21: वेतन बिल के अलावा जमा कराया गया आयकर TDS | F21: 0

Sheet HRA Cal.
B2: CALCULATE YOUR HRA EXEMPTION NOW ! | E2: Summary
B4: Basic salary | C4: =SUM('GA 55A'!B8:B19) -> 750000 | E4: Total GROSS SALARY | F4: ='Tax Calculaton Old'!M4 -> 1261870 | L4: =SUM('GA 55A'!B8:C19) -> 1170739 | M4: =C6 -> 75000
B5: DA forming part of salary | C5: =SUM('GA 55A'!C8:C19) -> 420739 | E5: TOTAL TAX | L5: =ROUND(L4*10%,0) -> 117074 | M5: =C11 -> 468296
B6: HRA Received | C6: =SUM('GA 55A'!D8:D19) -> 75000 | E6: Tax Old Regime | F6: ='Tax Calculaton Old'!M61 -> 138285 | L6: =IF(C9="Yes",ROUND(L4*50%,0),ROUND(L4*40%,0)) -> 468296 | M6: =IF((C8-L5)<0,0,(C8-L5)) -> 2926
E7: Tax New Regime | F7: ='Tax Calculaton New'!M52 -> 0 | M7: =MIN(M4:M6) -> 2926
B8: Rent Paid | C8: 120000 | E8: Total Tax Deposited Yet | F8: ='GA 55A'!V28 -> 12000
B9: Residing in Metro City (Choose if Yes) | C9: No | E9: Rebate Under Section 80C, 80CCC, 80CCD(1) | F9: ='Tax Calculaton Old'!M31 -> 143651
B10: Rent Paid in excess of 10% of salary | C10: =M6 -> 2926 | E10: Requirement of Receipt for HRA Rebate | F10: =ROUND(0.1*L4,0)+M4 -> 192074
B11: =IF(C9="Yes","50% of Salary (Basic +DA)","40% of Salary (Basic +DA)") -> 40% of Salary (Basic +DA) | C11: =IF(C9="Yes",ROUND(SUM(C4:C5)*50%,0),ROUND(SUM(C4:C5)*40%,0)) -> 468296 | E11: Requirement of Receipt for per month | F11: =ROUND(F10/12,0) -> 16006
B12: Exempted House Rent Allowance | C12: =M7 -> 2926
B13: Taxable House Rent Allowance | C13: =C6-C12 -> 72074

Sheet Tax Calculaton Old
A1: ='GA 55A'!A1 -> Office of the Principal
A2: आयकर गणना प्रपत्र वर्ष 2025-26
A3: 1 | B3: नाम कर्मचारी | D3: =IF(Master!C5="","",Master!C5) -> MOHIT SINGH | I3: पद | J3: =IF(Master!E5="","",Master!E5) -> Lecturer | L3: पैन नं. | M3: =IF(Master!C7="","",Master!C7) -> EKSPS8037K
A4: 2 | B4: आय वर्ष 2024-25 में प्राप्त कुल वेतन - | M4: ='GA 55A'!J28 -> 1261870
A5: 3 | B5: गृह किराया, धारा 10 (13-A) के अंतर्गत एवं धारा 10 (14) के अंतर्गत अन्य भत्ते जो कर मुक्त है - | M5: =Oth.Deductions!C4 -> 0
A6: 4 | B6: शेष (2-3) | M6: =M4-M5 -> 1261870
A7: 5 | B7: (I)Standard Deduction Maxium 50000 धारा 16 (i a) | L7: =IF($M$6>50000,50000,$M$6) -> 50000
B8: (II)मनोरंजन भत्ता धारा 16 (ii) के अंतर्गत Maxium 5000 | L8: =Oth.Deductions!C5 -> 0
B9: (III)वयवसाय कर धारा 16 (iii) के अंतर्गत | L9: =Oth.Deductions!C6 -> 0
B10: योग 5 | M10: =SUM(L7:L9) -> 50000
A11: 6 | B11: शेष (4-5) | M11: =M6-M10 -> 1211870
A12: 7 | B12: (अ) गृह सम्पति से आय (1) स्वयं के उपयोग में शून्य | H12: (2) प्राप्त किराया रूपये | K12: =Oth.Deductions!C7 -> 0
B13: (ब) घटाइए | D13: किराये का 30% | F13: गृह ऋण पर ब्याज | H13: गृह कर | J13: योग 7 (ब)
D14: =ROUND($K$12*0.3,0) -> 0 | F14: =Oth.Deductions!C10 -> 0 | H14: 0 | J14: =SUM(D14:I14) -> 0
B15: शेष - / + (7(अ) एवं 7 (ब) का) | M15: =$K$12-$J$14 -> 0
A16: 8 | B16: कुल शेष - / + (6 एवं 7) | M16: =$M$11+$M$15 -> 1211870
A17: 9 | B17: अन्य आय | M17: =SUM(Oth.Deductions!F4:F6) -> 0
A18: 10 | B18: सकल आय (योग 8+9) | M18: =SUM(M16:M17) -> 1211870
A19: 11 | B19: कटौतिया घटाइए - धारा US 80C, 80CCC, 80CCD(1)
B20: (A) अधिकतम सीमा 150000 (धारा 80CCE), धारा 80CCD(2) के अलावा
B21: 1 | C21: राज्य बीमा (SI) | F21: ='GA 55A'!$K$28 -> 84000 | H21: 11 | I21: EPEF (80CCD1) | L21: 0
B22: 2 | C22: LIC | F22: ='GA 55A'!R28+Oth.Deductions!C11 -> 0 | H22: 12 | I22: पेंशन प्लान हेतु अंशदान धारा (80CCC) | L22: =Oth.Deductions!F8 -> 0
B23: 3 | C23: ='GA 55A'!N7 -> GPF-2004 | F23: ='GA 55A'!N28 -> 58951 | H23: 13 | I23: राष्ट्रीय बचत पत्र पर ब्याज | L23: =Oth.Deductions!C16 -> 0
B24: 4 | C24: राष्ट्रीय बचत पत्र (NSC) | F24: =Oth.Deductions!C15 -> 0 | H24: 14 | I24: ट्यूशन फीस | L24: =Oth.Deductions!C13 -> 0
B25: 5 | C25: लोक भविष्य निधि (PPF) | F25: =Oth.Deductions!C17 -> 0 | H25: 15 | I25: इक्विटी लिंक सेविंग स्कीम | L25: =Oth.Deductions!C20 -> 0
B26: 6 | C26: राष्ट्रीय बचत स्कीम (NSS) | F26: =Oth.Deductions!C18 -> 0 | H26: 16 | I26: Defferred Annuty | L26: =Oth.Deductions!C21 -> 0
B27: 7 | C27: GIS | F27: ='GA 55A'!Q28 -> 700 | H27: 17 | I27: PLI | L27: =Oth.Deductions!C12 -> 0
B28: 8 | C28: ULIP / वार्षिक प्लान | F28: =Oth.Deductions!C14 -> 0 | H28: 18 | I28: धारा 80C के अंतर्गत अन्य जमा राशि | L28: =Oth.Deductions!F7 -> 0
B29: 9 | C29: Home Loan Premium | F29: =Oth.Deductions!C9 -> 0 | H29: 19 | I29: योग 1 से 18 तक | L29: =SUM(F21:G30,L21:L28) -> 143651
B30: 10 | C30: सुकन्या योजना में जमा | F30: =Oth.Deductions!C19 -> 0
B31: अधिकतम कटौती राशि रूपए 150000 तक | M31: =IF($L$29<150001,ROUND($L$29,0),150000) -> 143651
B32: (B) | C32: घटाइए धारा 80CCD (2) नियोक्ता द्वारा पेंशन अंशदान की राशि (अधिकतम वेतन का 10%) | M32: 0
B33: (C) | C33: घटाइए धारा 80CCD (1B)नवीन पेंशन योजना में अतिरिक्त अंशदान (अधिकतम रूपए 50000) | M33: =IF(Oth.Deductions!F10>=50000,50000,Oth.Deductions!F10) -> 0
B34: योग 11 (A+B+C) | M34: =SUM(M31:M33) -> 143651
A35: 12 | B35: अन्य कटौतिया
B36: 1 | C36: धारा 80 D, चिकित्सा बीमा प्रीमियम (स्वयं,पति/पत्नी व बच्चों के लिए रू 25000, माता-पिता के लिए रू 25000,सीनियर सिटीजन रू 50000) | M36: =Oth.Deductions!F11 -> 0
B37: 2 | C37: धारा 80DD विकलांग आश्रितों के चिकित्सा उपचार (अधिकतम 75,000 तथा 80% या अधिक विकलांगता 125,000) | M37: =Oth.Deductions!F12 -> 0
B38: 3 | C38: धारा 80 DB विशिष्ट रोंगों के उपचार हेतु कटौती (अधिकतम रू 40,000, सीनियर सिटीजन हेतु रू 100,000) | M38: =Oth.Deductions!F13 -> 0
B39: 4 | C39: धारा 80 E उच्च शिक्षा हेतु लिए ऋण का ब्याज | M39: =Oth.Deductions!F14 -> 0
B40: 5 | C40: धारा 80 G धर्मार्थ संस्थाओं आदि को दिये दान ( क श्रेणी में 100 प्रतिशत एवं ख श्रेणी में 50 प्रतिशत) | M40: =Oth.Deductions!F15 -> 0
...

Sheet Tax Calculaton New
A1: ='Tax Calculaton Old'!A1 -> Office of the Principal
A2: आयकर गणना प्रपत्र वर्ष 2025-26
A3: 1 | B3: नाम कर्मचारी | D3: ='Tax Calculaton Old'!D3 -> MOHIT SINGH | I3: पद | J3: ='Tax Calculaton Old'!J3 -> Lecturer | L3: पैन नं. | M3: ='Tax Calculaton Old'!M3 -> EKSPS8037K
A4: 2 | B4: आय वर्ष 2024-25 में प्राप्त कुल वेतन - | M4: ='Tax Calculaton Old'!M4 -> 1261870
A5: 3 | B5: गृह किराया, धारा 10 (13-A) के अंतर्गत एवं धारा 10 (14) के अंतर्गत अन्य भत्ते जो कर मुक्त है - | M5: 0
A6: 4 | B6: शेष (2-3) | M6: =M4-M5 -> 1261870
A7: 5 | B7: (I)Standard Deduction Maxium 75000 धारा 16 (i a) | L7: =IF($M$6>75000,75000,$M$6) -> 75000
B8: (II)मनोरंजन भत्ता धारा 16 (ii) के अंतर्गत Maxium 5000 | L8: 0
B9: (III)वयवसाय कर धारा 16 (iii) के अंतर्गत | L9: 0
B10: योग 5 | M10: =SUM(L7:L9) -> 75000
A11: 6 | B11: शेष (4-5) | M11: =M6-M10 -> 1186870
A12: 7 | B12: (अ) गृह सम्पति से आय (1) स्वयं के उपयोग में शून्य | H12: (2) प्राप्त किराया रूपये | K12: ='Tax Calculaton Old'!K12 -> 0
B13: (ब) घटाइए | D13: किराये का 30% | F13: गृह ऋण पर ब्याज | H13: गृह कर | J13: योग 7 (ब)
D14: 0 | F14: 0 | H14: 0 | J14: =SUM(D14:I14) -> 0
B15: शेष - / + (7(अ) एवं 7 (ब) का) | M15: =$K$12+$J$14 -> 0
A16: 8 | B16: कुल शेष - / + (6 एवं 7) | M16: =$M$11-$M$15 -> 1186870
A17: 9 | B17: अन्य आय | M17: ='Tax Calculaton Old'!M17 -> 0
A18: 10 | B18: सकल आय (योग 8+9) | M18: =SUM(M16:M17) -> 1186870
A19: 11 | B19: कटौतिया घटाइए - धारा US 80C, 80CCC, 80CCD(1)
B20: (A) धारा US 80C, 80CCC, 80CCD(1) अधिकतम कटौती की राशि | M20: 0
B21: (B) धारा 80CCD(2) नियोक्ता द्वारा पेंशन अंशदान की राशि (अधिकतम वेतन का 10% पृथक से छूट) | M21: ='Tax Calculaton Old'!M32 -> 0
B22: (C) धारा 80CCD(1B) नवीन पेंशन योजना में अतिरिक्त अंशदान (अधिकतम रू. 50,000) | M22: ='Tax Calculaton Old'!M33 -> 0
B23: योग 11 (A+B+C) | M23: =SUM(M20:M22) -> 0
A24: 12 | B24: अन्य कटौतिया
B25: 1 | C25: धारा 80 D, चिकित्सा बीमा प्रीमियम (स्वयं,पति/पत्नी व बच्चों के लिए रू 25000, माता-पिता के लिए रू 25000,सीनियर सिटीजन रू 50000) | M25: 0
B26: 2 | C26: धारा 80DD विकलांग आश्रितों के चिकित्सा उपचार (अधिकतम 75,000 तथा 80ः या अधिक विकलांगता 125,000) | M26: 0
B27: 3 | C27: धारा 80 DB विशिष्ट रोंगों के उपचार हेतु कटौती (अधिकतम रू 40,000, सीनियर सिटीजन हेतु रू 100,000) | M27: 0
B28: 4 | C28: धारा 80 E उच्च शिक्षा हेतु लिए ऋण का ब्याज | M28: 0
B29: 5 | C29: धारा 80 G धर्मार्थ संस्थाओं आदि को दिये दान ( क श्रेणी में 100 प्रतिशत एवं ख श्रेणी में 50 प्रतिशत) | M29: 0
B30: 6 | C30: धारा 80 U स्थाई रूप से शारीरिक असमर्थतता की दशा में (अधिकतम 75,000 तथा अधिनियम 1995के अनुसार 125,000) | M30: 0
B31: 7 | C31: धारा 80 TTA बचत खाते पर ब्याज की अधिकतम छूट रू. 10,000 U/S 194(IA) | M31: 0
B32: 8 | C32: धारा 80 TTB वरिष्ठ नागरिकों को सभी प्रकार के ब्याज पर अधिकतम छूट- 50000 रू. U/S 194(A) | M32: 0
B33: योग 12 (1 to 9) | M33: =SUM(M25:M32) -> 0
A34: 13 | B34: कुल कटौती (11+12) | M34: =SUM($M$23+$M$33) -> 0
A35: 14 | B35: कर योग्य आय (10-13) | M35: =$M$18-$M$34 -> 1186870
A36: 15 | B36: कुल आय की राशि को सम्पूर्ण करना (दस के गुणक में) धारा 288 A | M36: =ROUND($M$35,-1) -> 1186870
A37: 16 | B37: आयकर की गणना
B38: एक व्यक्ति कर दाता | F38: वरिष्ठ नागरिक (60 से 80 वर्ष) | J38: 80 वर्ष या अधिक आयु
B39: 400000 तक | E39: 0 | F39: 400000 तक | I39: 0 | J39: 400000 तक | L39: 0 | M39: 0
B40: 400001 से 800000 तक | E40: 0.05 | F40: 400001 से 800000 तक | I40: 0.05 | J40: 400001 से 800000 तक | L40: 0.05 | M40: =ROUND(IF(M36<400001,0,IF(M36>800000,20000,((M36-400001)*0.05))),0) -> 20000
...
